BEGIN:VCALENDAR
VERSION:2.0
PRODID:-// - ECPv6.15.20//NONSGML v1.0//EN
CALSCALE:GREGORIAN
METHOD:PUBLISH
X-ORIGINAL-URL:https://broadlandshoa.org
X-WR-CALDESC:Events for 
REFRESH-INTERVAL;VALUE=DURATION:PT1H
X-Robots-Tag:noindex
X-PUBLISHED-TTL:PT1H
BEGIN:VTIMEZONE
TZID:America/New_York
BEGIN:DAYLIGHT
TZOFFSETFROM:-0500
TZOFFSETTO:-0400
TZNAME:EDT
DTSTART:20250309T070000
END:DAYLIGHT
BEGIN:STANDARD
TZOFFSETFROM:-0400
TZOFFSETTO:-0500
TZNAME:EST
DTSTART:20251102T060000
END:STANDARD
BEGIN:DAYLIGHT
TZOFFSETFROM:-0500
TZOFFSETTO:-0400
TZNAME:EDT
DTSTART:20260308T070000
END:DAYLIGHT
BEGIN:STANDARD
TZOFFSETFROM:-0400
TZOFFSETTO:-0500
TZNAME:EST
DTSTART:20261101T060000
END:STANDARD
BEGIN:DAYLIGHT
TZOFFSETFROM:-0500
TZOFFSETTO:-0400
TZNAME:EDT
DTSTART:20270314T070000
END:DAYLIGHT
BEGIN:STANDARD
TZOFFSETFROM:-0400
TZOFFSETTO:-0500
TZNAME:EST
DTSTART:20271107T060000
END:STANDARD
END:VTIMEZONE
BEGIN:VEVENT
DTSTART;TZID=America/New_York:20260423T060000
DTEND;TZID=America/New_York:20260423T170000
DTSTAMP:20260422T101741
CREATED:20251230T200938Z
LAST-MODIFIED:20251230T205921Z
UID:10000120-1776924000-1776963600@broadlandshoa.org
SUMMARY:Trash Services
DESCRIPTION:
URL:https://broadlandshoa.org/calendar/trash-services/2026-04-23/
END:VEVENT
BEGIN:VEVENT
DTSTART;TZID=America/New_York:20260427T060000
DTEND;TZID=America/New_York:20260427T170000
DTSTAMP:20260422T101741
CREATED:20251230T200938Z
LAST-MODIFIED:20251230T205921Z
UID:10000625-1777269600-1777309200@broadlandshoa.org
SUMMARY:Trash Services
DESCRIPTION:
URL:https://broadlandshoa.org/calendar/trash-services/2026-04-27/
END:VEVENT
BEGIN:VEVENT
DTSTART;TZID=America/New_York:20260430T060000
DTEND;TZID=America/New_York:20260430T170000
DTSTAMP:20260422T101741
CREATED:20251230T200938Z
LAST-MODIFIED:20251230T205921Z
UID:10000122-1777528800-1777568400@broadlandshoa.org
SUMMARY:Trash Services
DESCRIPTION:
URL:https://broadlandshoa.org/calendar/trash-services/2026-04-30/
END:VEVENT
BEGIN:VEVENT
DTSTART;TZID=America/New_York:20260504T060000
DTEND;TZID=America/New_York:20260504T170000
DTSTAMP:20260422T101741
CREATED:20251230T200938Z
LAST-MODIFIED:20251230T205921Z
UID:10000626-1777874400-1777914000@broadlandshoa.org
SUMMARY:Trash Services
DESCRIPTION:
URL:https://broadlandshoa.org/calendar/trash-services/2026-05-04/
END:VEVENT
BEGIN:VEVENT
DTSTART;TZID=America/New_York:20260507T060000
DTEND;TZID=America/New_York:20260507T170000
DTSTAMP:20260422T101741
CREATED:20251230T200938Z
LAST-MODIFIED:20251230T205921Z
UID:10000124-1778133600-1778173200@broadlandshoa.org
SUMMARY:Trash Services
DESCRIPTION:
URL:https://broadlandshoa.org/calendar/trash-services/2026-05-07/
END:VEVENT
BEGIN:VEVENT
DTSTART;TZID=America/New_York:20260511T060000
DTEND;TZID=America/New_York:20260511T170000
DTSTAMP:20260422T101741
CREATED:20251230T200938Z
LAST-MODIFIED:20251230T205921Z
UID:10000627-1778479200-1778518800@broadlandshoa.org
SUMMARY:Trash Services
DESCRIPTION:
URL:https://broadlandshoa.org/calendar/trash-services/2026-05-11/
END:VEVENT
BEGIN:VEVENT
DTSTART;TZID=America/New_York:20260514T060000
DTEND;TZID=America/New_York:20260514T170000
DTSTAMP:20260422T101741
CREATED:20251230T200938Z
LAST-MODIFIED:20251230T205921Z
UID:10000126-1778738400-1778778000@broadlandshoa.org
SUMMARY:Trash Services
DESCRIPTION:
URL:https://broadlandshoa.org/calendar/trash-services/2026-05-14/
END:VEVENT
BEGIN:VEVENT
DTSTART;TZID=America/New_York:20260518T060000
DTEND;TZID=America/New_York:20260518T170000
DTSTAMP:20260422T101741
CREATED:20251230T200938Z
LAST-MODIFIED:20251230T205921Z
UID:10000628-1779084000-1779123600@broadlandshoa.org
SUMMARY:Trash Services
DESCRIPTION:
URL:https://broadlandshoa.org/calendar/trash-services/2026-05-18/
END:VEVENT
BEGIN:VEVENT
DTSTART;TZID=America/New_York:20260521T060000
DTEND;TZID=America/New_York:20260521T170000
DTSTAMP:20260422T101741
CREATED:20251230T200938Z
LAST-MODIFIED:20251230T205921Z
UID:10000128-1779343200-1779382800@broadlandshoa.org
SUMMARY:Trash Services
DESCRIPTION:
URL:https://broadlandshoa.org/calendar/trash-services/2026-05-21/
END:VEVENT
BEGIN:VEVENT
DTSTART;TZID=America/New_York:20260525T060000
DTEND;TZID=America/New_York:20260525T170000
DTSTAMP:20260422T101741
CREATED:20251230T200938Z
LAST-MODIFIED:20251230T205921Z
UID:10000629-1779688800-1779728400@broadlandshoa.org
SUMMARY:Trash Services
DESCRIPTION:
URL:https://broadlandshoa.org/calendar/trash-services/2026-05-25/
END:VEVENT
BEGIN:VEVENT
DTSTART;TZID=America/New_York:20260528T060000
DTEND;TZID=America/New_York:20260528T170000
DTSTAMP:20260422T101741
CREATED:20251230T200938Z
LAST-MODIFIED:20251230T205921Z
UID:10000130-1779948000-1779987600@broadlandshoa.org
SUMMARY:Trash Services
DESCRIPTION:
URL:https://broadlandshoa.org/calendar/trash-services/2026-05-28/
END:VEVENT
BEGIN:VEVENT
DTSTART;TZID=America/New_York:20260601T060000
DTEND;TZID=America/New_York:20260601T170000
DTSTAMP:20260422T101741
CREATED:20251230T200938Z
LAST-MODIFIED:20251230T205921Z
UID:10000630-1780293600-1780333200@broadlandshoa.org
SUMMARY:Trash Services
DESCRIPTION:
URL:https://broadlandshoa.org/calendar/trash-services/2026-06-01/
END:VEVENT
BEGIN:VEVENT
DTSTART;TZID=America/New_York:20260604T060000
DTEND;TZID=America/New_York:20260604T170000
DTSTAMP:20260422T101741
CREATED:20251230T200938Z
LAST-MODIFIED:20251230T205921Z
UID:10000132-1780552800-1780592400@broadlandshoa.org
SUMMARY:Trash Services
DESCRIPTION:
URL:https://broadlandshoa.org/calendar/trash-services/2026-06-04/
END:VEVENT
BEGIN:VEVENT
DTSTART;TZID=America/New_York:20260608T060000
DTEND;TZID=America/New_York:20260608T170000
DTSTAMP:20260422T101741
CREATED:20251230T200938Z
LAST-MODIFIED:20251230T205921Z
UID:10000631-1780898400-1780938000@broadlandshoa.org
SUMMARY:Trash Services
DESCRIPTION:
URL:https://broadlandshoa.org/calendar/trash-services/2026-06-08/
END:VEVENT
BEGIN:VEVENT
DTSTART;TZID=America/New_York:20260611T060000
DTEND;TZID=America/New_York:20260611T170000
DTSTAMP:20260422T101741
CREATED:20251230T200938Z
LAST-MODIFIED:20251230T205921Z
UID:10000134-1781157600-1781197200@broadlandshoa.org
SUMMARY:Trash Services
DESCRIPTION:
URL:https://broadlandshoa.org/calendar/trash-services/2026-06-11/
END:VEVENT
BEGIN:VEVENT
DTSTART;TZID=America/New_York:20260615T060000
DTEND;TZID=America/New_York:20260615T170000
DTSTAMP:20260422T101741
CREATED:20251230T200938Z
LAST-MODIFIED:20251230T205921Z
UID:10000632-1781503200-1781542800@broadlandshoa.org
SUMMARY:Trash Services
DESCRIPTION:
URL:https://broadlandshoa.org/calendar/trash-services/2026-06-15/
END:VEVENT
BEGIN:VEVENT
DTSTART;TZID=America/New_York:20260618T060000
DTEND;TZID=America/New_York:20260618T170000
DTSTAMP:20260422T101741
CREATED:20251230T200938Z
LAST-MODIFIED:20251230T205921Z
UID:10000136-1781762400-1781802000@broadlandshoa.org
SUMMARY:Trash Services
DESCRIPTION:
URL:https://broadlandshoa.org/calendar/trash-services/2026-06-18/
END:VEVENT
BEGIN:VEVENT
DTSTART;TZID=America/New_York:20260622T060000
DTEND;TZID=America/New_York:20260622T170000
DTSTAMP:20260422T101741
CREATED:20251230T200938Z
LAST-MODIFIED:20251230T205921Z
UID:10000633-1782108000-1782147600@broadlandshoa.org
SUMMARY:Trash Services
DESCRIPTION:
URL:https://broadlandshoa.org/calendar/trash-services/2026-06-22/
END:VEVENT
BEGIN:VEVENT
DTSTART;TZID=America/New_York:20260625T060000
DTEND;TZID=America/New_York:20260625T170000
DTSTAMP:20260422T101741
CREATED:20251230T200938Z
LAST-MODIFIED:20251230T205921Z
UID:10000138-1782367200-1782406800@broadlandshoa.org
SUMMARY:Trash Services
DESCRIPTION:
URL:https://broadlandshoa.org/calendar/trash-services/2026-06-25/
END:VEVENT
BEGIN:VEVENT
DTSTART;TZID=America/New_York:20260629T060000
DTEND;TZID=America/New_York:20260629T170000
DTSTAMP:20260422T101741
CREATED:20251230T200938Z
LAST-MODIFIED:20251230T205921Z
UID:10000634-1782712800-1782752400@broadlandshoa.org
SUMMARY:Trash Services
DESCRIPTION:
URL:https://broadlandshoa.org/calendar/trash-services/2026-06-29/
END:VEVENT
BEGIN:VEVENT
DTSTART;TZID=America/New_York:20260702T060000
DTEND;TZID=America/New_York:20260702T170000
DTSTAMP:20260422T101741
CREATED:20251230T200938Z
LAST-MODIFIED:20251230T205921Z
UID:10000140-1782972000-1783011600@broadlandshoa.org
SUMMARY:Trash Services
DESCRIPTION:
URL:https://broadlandshoa.org/calendar/trash-services/2026-07-02/
END:VEVENT
BEGIN:VEVENT
DTSTART;TZID=America/New_York:20260706T060000
DTEND;TZID=America/New_York:20260706T170000
DTSTAMP:20260422T101741
CREATED:20251230T200938Z
LAST-MODIFIED:20251230T205921Z
UID:10000635-1783317600-1783357200@broadlandshoa.org
SUMMARY:Trash Services
DESCRIPTION:
URL:https://broadlandshoa.org/calendar/trash-services/2026-07-06/
END:VEVENT
BEGIN:VEVENT
DTSTART;TZID=America/New_York:20260709T060000
DTEND;TZID=America/New_York:20260709T170000
DTSTAMP:20260422T101741
CREATED:20251230T200938Z
LAST-MODIFIED:20251230T205921Z
UID:10000142-1783576800-1783616400@broadlandshoa.org
SUMMARY:Trash Services
DESCRIPTION:
URL:https://broadlandshoa.org/calendar/trash-services/2026-07-09/
END:VEVENT
BEGIN:VEVENT
DTSTART;TZID=America/New_York:20260713T060000
DTEND;TZID=America/New_York:20260713T170000
DTSTAMP:20260422T101741
CREATED:20251230T200938Z
LAST-MODIFIED:20251230T205921Z
UID:10000636-1783922400-1783962000@broadlandshoa.org
SUMMARY:Trash Services
DESCRIPTION:
URL:https://broadlandshoa.org/calendar/trash-services/2026-07-13/
END:VEVENT
BEGIN:VEVENT
DTSTART;TZID=America/New_York:20260716T060000
DTEND;TZID=America/New_York:20260716T170000
DTSTAMP:20260422T101741
CREATED:20251230T200938Z
LAST-MODIFIED:20251230T205921Z
UID:10000144-1784181600-1784221200@broadlandshoa.org
SUMMARY:Trash Services
DESCRIPTION:
URL:https://broadlandshoa.org/calendar/trash-services/2026-07-16/
END:VEVENT
BEGIN:VEVENT
DTSTART;TZID=America/New_York:20260720T060000
DTEND;TZID=America/New_York:20260720T170000
DTSTAMP:20260422T101741
CREATED:20251230T200938Z
LAST-MODIFIED:20251230T205921Z
UID:10000637-1784527200-1784566800@broadlandshoa.org
SUMMARY:Trash Services
DESCRIPTION:
URL:https://broadlandshoa.org/calendar/trash-services/2026-07-20/
END:VEVENT
BEGIN:VEVENT
DTSTART;TZID=America/New_York:20260723T060000
DTEND;TZID=America/New_York:20260723T170000
DTSTAMP:20260422T101741
CREATED:20251230T200938Z
LAST-MODIFIED:20251230T205921Z
UID:10000146-1784786400-1784826000@broadlandshoa.org
SUMMARY:Trash Services
DESCRIPTION:
URL:https://broadlandshoa.org/calendar/trash-services/2026-07-23/
END:VEVENT
BEGIN:VEVENT
DTSTART;TZID=America/New_York:20260727T060000
DTEND;TZID=America/New_York:20260727T170000
DTSTAMP:20260422T101741
CREATED:20251230T200938Z
LAST-MODIFIED:20251230T205921Z
UID:10000638-1785132000-1785171600@broadlandshoa.org
SUMMARY:Trash Services
DESCRIPTION:
URL:https://broadlandshoa.org/calendar/trash-services/2026-07-27/
END:VEVENT
BEGIN:VEVENT
DTSTART;TZID=America/New_York:20260730T060000
DTEND;TZID=America/New_York:20260730T170000
DTSTAMP:20260422T101741
CREATED:20251230T200938Z
LAST-MODIFIED:20251230T205921Z
UID:10000148-1785391200-1785430800@broadlandshoa.org
SUMMARY:Trash Services
DESCRIPTION:
URL:https://broadlandshoa.org/calendar/trash-services/2026-07-30/
END:VEVENT
BEGIN:VEVENT
DTSTART;TZID=America/New_York:20260803T060000
DTEND;TZID=America/New_York:20260803T170000
DTSTAMP:20260422T101741
CREATED:20251230T200938Z
LAST-MODIFIED:20251230T205921Z
UID:10000639-1785736800-1785776400@broadlandshoa.org
SUMMARY:Trash Services
DESCRIPTION:
URL:https://broadlandshoa.org/calendar/trash-services/2026-08-03/
END:VEVENT
END:VCALENDAR