BEGIN:VCALENDAR
VERSION:2.0
PRODID:-// - ECPv6.15.20//NONSGML v1.0//EN
CALSCALE:GREGORIAN
METHOD:PUBLISH
X-ORIGINAL-URL:https://broadlandshoa.org
X-WR-CALDESC:Events for 
REFRESH-INTERVAL;VALUE=DURATION:PT1H
X-Robots-Tag:noindex
X-PUBLISHED-TTL:PT1H
BEGIN:VTIMEZONE
TZID:America/New_York
BEGIN:DAYLIGHT
TZOFFSETFROM:-0500
TZOFFSETTO:-0400
TZNAME:EDT
DTSTART:20260308T070000
END:DAYLIGHT
BEGIN:STANDARD
TZOFFSETFROM:-0400
TZOFFSETTO:-0500
TZNAME:EST
DTSTART:20261101T060000
END:STANDARD
BEGIN:DAYLIGHT
TZOFFSETFROM:-0500
TZOFFSETTO:-0400
TZNAME:EDT
DTSTART:20270314T070000
END:DAYLIGHT
BEGIN:STANDARD
TZOFFSETFROM:-0400
TZOFFSETTO:-0500
TZNAME:EST
DTSTART:20271107T060000
END:STANDARD
BEGIN:DAYLIGHT
TZOFFSETFROM:-0500
TZOFFSETTO:-0400
TZNAME:EDT
DTSTART:20280312T070000
END:DAYLIGHT
BEGIN:STANDARD
TZOFFSETFROM:-0400
TZOFFSETTO:-0500
TZNAME:EST
DTSTART:20281105T060000
END:STANDARD
END:VTIMEZONE
BEGIN:VEVENT
DTSTART;TZID=America/New_York:20270705T060000
DTEND;TZID=America/New_York:20270705T170000
DTSTAMP:20260424T044849
CREATED:20251230T200938Z
LAST-MODIFIED:20251230T205921Z
UID:10000687-1814767200-1814806800@broadlandshoa.org
SUMMARY:Trash Services
DESCRIPTION:
URL:https://broadlandshoa.org/calendar/trash-services/2027-07-05/
END:VEVENT
BEGIN:VEVENT
DTSTART;TZID=America/New_York:20270708T060000
DTEND;TZID=America/New_York:20270708T170000
DTSTAMP:20260424T044849
CREATED:20251230T200938Z
LAST-MODIFIED:20251230T205921Z
UID:10000246-1815026400-1815066000@broadlandshoa.org
SUMMARY:Trash Services
DESCRIPTION:
URL:https://broadlandshoa.org/calendar/trash-services/2027-07-08/
END:VEVENT
BEGIN:VEVENT
DTSTART;TZID=America/New_York:20270712T060000
DTEND;TZID=America/New_York:20270712T170000
DTSTAMP:20260424T044849
CREATED:20251230T200938Z
LAST-MODIFIED:20251230T205921Z
UID:10000688-1815372000-1815411600@broadlandshoa.org
SUMMARY:Trash Services
DESCRIPTION:
URL:https://broadlandshoa.org/calendar/trash-services/2027-07-12/
END:VEVENT
BEGIN:VEVENT
DTSTART;TZID=America/New_York:20270715T060000
DTEND;TZID=America/New_York:20270715T170000
DTSTAMP:20260424T044849
CREATED:20251230T200938Z
LAST-MODIFIED:20251230T205921Z
UID:10000248-1815631200-1815670800@broadlandshoa.org
SUMMARY:Trash Services
DESCRIPTION:
URL:https://broadlandshoa.org/calendar/trash-services/2027-07-15/
END:VEVENT
BEGIN:VEVENT
DTSTART;TZID=America/New_York:20270719T060000
DTEND;TZID=America/New_York:20270719T170000
DTSTAMP:20260424T044849
CREATED:20251230T200938Z
LAST-MODIFIED:20251230T205921Z
UID:10000689-1815976800-1816016400@broadlandshoa.org
SUMMARY:Trash Services
DESCRIPTION:
URL:https://broadlandshoa.org/calendar/trash-services/2027-07-19/
END:VEVENT
BEGIN:VEVENT
DTSTART;TZID=America/New_York:20270722T060000
DTEND;TZID=America/New_York:20270722T170000
DTSTAMP:20260424T044849
CREATED:20251230T200938Z
LAST-MODIFIED:20251230T205921Z
UID:10000250-1816236000-1816275600@broadlandshoa.org
SUMMARY:Trash Services
DESCRIPTION:
URL:https://broadlandshoa.org/calendar/trash-services/2027-07-22/
END:VEVENT
BEGIN:VEVENT
DTSTART;TZID=America/New_York:20270726T060000
DTEND;TZID=America/New_York:20270726T170000
DTSTAMP:20260424T044849
CREATED:20251230T200938Z
LAST-MODIFIED:20251230T205921Z
UID:10000690-1816581600-1816621200@broadlandshoa.org
SUMMARY:Trash Services
DESCRIPTION:
URL:https://broadlandshoa.org/calendar/trash-services/2027-07-26/
END:VEVENT
BEGIN:VEVENT
DTSTART;TZID=America/New_York:20270729T060000
DTEND;TZID=America/New_York:20270729T170000
DTSTAMP:20260424T044849
CREATED:20251230T200938Z
LAST-MODIFIED:20251230T205921Z
UID:10000252-1816840800-1816880400@broadlandshoa.org
SUMMARY:Trash Services
DESCRIPTION:
URL:https://broadlandshoa.org/calendar/trash-services/2027-07-29/
END:VEVENT
BEGIN:VEVENT
DTSTART;TZID=America/New_York:20270802T060000
DTEND;TZID=America/New_York:20270802T170000
DTSTAMP:20260424T044849
CREATED:20251230T200938Z
LAST-MODIFIED:20251230T205921Z
UID:10000691-1817186400-1817226000@broadlandshoa.org
SUMMARY:Trash Services
DESCRIPTION:
URL:https://broadlandshoa.org/calendar/trash-services/2027-08-02/
END:VEVENT
BEGIN:VEVENT
DTSTART;TZID=America/New_York:20270805T060000
DTEND;TZID=America/New_York:20270805T170000
DTSTAMP:20260424T044849
CREATED:20251230T200938Z
LAST-MODIFIED:20251230T205921Z
UID:10000254-1817445600-1817485200@broadlandshoa.org
SUMMARY:Trash Services
DESCRIPTION:
URL:https://broadlandshoa.org/calendar/trash-services/2027-08-05/
END:VEVENT
BEGIN:VEVENT
DTSTART;TZID=America/New_York:20270809T060000
DTEND;TZID=America/New_York:20270809T170000
DTSTAMP:20260424T044849
CREATED:20251230T200938Z
LAST-MODIFIED:20251230T205921Z
UID:10000692-1817791200-1817830800@broadlandshoa.org
SUMMARY:Trash Services
DESCRIPTION:
URL:https://broadlandshoa.org/calendar/trash-services/2027-08-09/
END:VEVENT
BEGIN:VEVENT
DTSTART;TZID=America/New_York:20270812T060000
DTEND;TZID=America/New_York:20270812T170000
DTSTAMP:20260424T044849
CREATED:20251230T200938Z
LAST-MODIFIED:20251230T205921Z
UID:10000256-1818050400-1818090000@broadlandshoa.org
SUMMARY:Trash Services
DESCRIPTION:
URL:https://broadlandshoa.org/calendar/trash-services/2027-08-12/
END:VEVENT
BEGIN:VEVENT
DTSTART;TZID=America/New_York:20270816T060000
DTEND;TZID=America/New_York:20270816T170000
DTSTAMP:20260424T044849
CREATED:20251230T200938Z
LAST-MODIFIED:20251230T205921Z
UID:10000693-1818396000-1818435600@broadlandshoa.org
SUMMARY:Trash Services
DESCRIPTION:
URL:https://broadlandshoa.org/calendar/trash-services/2027-08-16/
END:VEVENT
BEGIN:VEVENT
DTSTART;TZID=America/New_York:20270819T060000
DTEND;TZID=America/New_York:20270819T170000
DTSTAMP:20260424T044849
CREATED:20251230T200938Z
LAST-MODIFIED:20251230T205921Z
UID:10000258-1818655200-1818694800@broadlandshoa.org
SUMMARY:Trash Services
DESCRIPTION:
URL:https://broadlandshoa.org/calendar/trash-services/2027-08-19/
END:VEVENT
BEGIN:VEVENT
DTSTART;TZID=America/New_York:20270823T060000
DTEND;TZID=America/New_York:20270823T170000
DTSTAMP:20260424T044849
CREATED:20251230T200938Z
LAST-MODIFIED:20251230T205921Z
UID:10000694-1819000800-1819040400@broadlandshoa.org
SUMMARY:Trash Services
DESCRIPTION:
URL:https://broadlandshoa.org/calendar/trash-services/2027-08-23/
END:VEVENT
BEGIN:VEVENT
DTSTART;TZID=America/New_York:20270826T060000
DTEND;TZID=America/New_York:20270826T170000
DTSTAMP:20260424T044849
CREATED:20251230T200938Z
LAST-MODIFIED:20251230T205921Z
UID:10000260-1819260000-1819299600@broadlandshoa.org
SUMMARY:Trash Services
DESCRIPTION:
URL:https://broadlandshoa.org/calendar/trash-services/2027-08-26/
END:VEVENT
BEGIN:VEVENT
DTSTART;TZID=America/New_York:20270830T060000
DTEND;TZID=America/New_York:20270830T170000
DTSTAMP:20260424T044849
CREATED:20251230T200938Z
LAST-MODIFIED:20251230T205921Z
UID:10000695-1819605600-1819645200@broadlandshoa.org
SUMMARY:Trash Services
DESCRIPTION:
URL:https://broadlandshoa.org/calendar/trash-services/2027-08-30/
END:VEVENT
BEGIN:VEVENT
DTSTART;TZID=America/New_York:20270902T060000
DTEND;TZID=America/New_York:20270902T170000
DTSTAMP:20260424T044849
CREATED:20251230T200938Z
LAST-MODIFIED:20251230T205921Z
UID:10000262-1819864800-1819904400@broadlandshoa.org
SUMMARY:Trash Services
DESCRIPTION:
URL:https://broadlandshoa.org/calendar/trash-services/2027-09-02/
END:VEVENT
BEGIN:VEVENT
DTSTART;TZID=America/New_York:20270906T060000
DTEND;TZID=America/New_York:20270906T170000
DTSTAMP:20260424T044849
CREATED:20251230T200938Z
LAST-MODIFIED:20251230T205921Z
UID:10000696-1820210400-1820250000@broadlandshoa.org
SUMMARY:Trash Services
DESCRIPTION:
URL:https://broadlandshoa.org/calendar/trash-services/2027-09-06/
END:VEVENT
BEGIN:VEVENT
DTSTART;TZID=America/New_York:20270909T060000
DTEND;TZID=America/New_York:20270909T170000
DTSTAMP:20260424T044849
CREATED:20251230T200938Z
LAST-MODIFIED:20251230T205921Z
UID:10000264-1820469600-1820509200@broadlandshoa.org
SUMMARY:Trash Services
DESCRIPTION:
URL:https://broadlandshoa.org/calendar/trash-services/2027-09-09/
END:VEVENT
BEGIN:VEVENT
DTSTART;TZID=America/New_York:20270913T060000
DTEND;TZID=America/New_York:20270913T170000
DTSTAMP:20260424T044849
CREATED:20251230T200938Z
LAST-MODIFIED:20251230T205921Z
UID:10000697-1820815200-1820854800@broadlandshoa.org
SUMMARY:Trash Services
DESCRIPTION:
URL:https://broadlandshoa.org/calendar/trash-services/2027-09-13/
END:VEVENT
BEGIN:VEVENT
DTSTART;TZID=America/New_York:20270916T060000
DTEND;TZID=America/New_York:20270916T170000
DTSTAMP:20260424T044849
CREATED:20251230T200938Z
LAST-MODIFIED:20251230T205921Z
UID:10000266-1821074400-1821114000@broadlandshoa.org
SUMMARY:Trash Services
DESCRIPTION:
URL:https://broadlandshoa.org/calendar/trash-services/2027-09-16/
END:VEVENT
BEGIN:VEVENT
DTSTART;TZID=America/New_York:20270920T060000
DTEND;TZID=America/New_York:20270920T170000
DTSTAMP:20260424T044849
CREATED:20251230T200938Z
LAST-MODIFIED:20251230T205921Z
UID:10000698-1821420000-1821459600@broadlandshoa.org
SUMMARY:Trash Services
DESCRIPTION:
URL:https://broadlandshoa.org/calendar/trash-services/2027-09-20/
END:VEVENT
BEGIN:VEVENT
DTSTART;TZID=America/New_York:20270923T060000
DTEND;TZID=America/New_York:20270923T170000
DTSTAMP:20260424T044849
CREATED:20251230T200938Z
LAST-MODIFIED:20251230T205921Z
UID:10000268-1821679200-1821718800@broadlandshoa.org
SUMMARY:Trash Services
DESCRIPTION:
URL:https://broadlandshoa.org/calendar/trash-services/2027-09-23/
END:VEVENT
BEGIN:VEVENT
DTSTART;TZID=America/New_York:20270927T060000
DTEND;TZID=America/New_York:20270927T170000
DTSTAMP:20260424T044849
CREATED:20251230T200938Z
LAST-MODIFIED:20251230T205921Z
UID:10000699-1822024800-1822064400@broadlandshoa.org
SUMMARY:Trash Services
DESCRIPTION:
URL:https://broadlandshoa.org/calendar/trash-services/2027-09-27/
END:VEVENT
BEGIN:VEVENT
DTSTART;TZID=America/New_York:20270930T060000
DTEND;TZID=America/New_York:20270930T170000
DTSTAMP:20260424T044849
CREATED:20251230T200938Z
LAST-MODIFIED:20251230T205921Z
UID:10000270-1822284000-1822323600@broadlandshoa.org
SUMMARY:Trash Services
DESCRIPTION:
URL:https://broadlandshoa.org/calendar/trash-services/2027-09-30/
END:VEVENT
BEGIN:VEVENT
DTSTART;TZID=America/New_York:20271004T060000
DTEND;TZID=America/New_York:20271004T170000
DTSTAMP:20260424T044849
CREATED:20251230T200938Z
LAST-MODIFIED:20251230T205921Z
UID:10000700-1822629600-1822669200@broadlandshoa.org
SUMMARY:Trash Services
DESCRIPTION:
URL:https://broadlandshoa.org/calendar/trash-services/2027-10-04/
END:VEVENT
BEGIN:VEVENT
DTSTART;TZID=America/New_York:20271007T060000
DTEND;TZID=America/New_York:20271007T170000
DTSTAMP:20260424T044849
CREATED:20251230T200938Z
LAST-MODIFIED:20251230T205921Z
UID:10000272-1822888800-1822928400@broadlandshoa.org
SUMMARY:Trash Services
DESCRIPTION:
URL:https://broadlandshoa.org/calendar/trash-services/2027-10-07/
END:VEVENT
BEGIN:VEVENT
DTSTART;TZID=America/New_York:20271011T060000
DTEND;TZID=America/New_York:20271011T170000
DTSTAMP:20260424T044849
CREATED:20251230T200938Z
LAST-MODIFIED:20251230T205921Z
UID:10000701-1823234400-1823274000@broadlandshoa.org
SUMMARY:Trash Services
DESCRIPTION:
URL:https://broadlandshoa.org/calendar/trash-services/2027-10-11/
END:VEVENT
BEGIN:VEVENT
DTSTART;TZID=America/New_York:20271014T060000
DTEND;TZID=America/New_York:20271014T170000
DTSTAMP:20260424T044849
CREATED:20251230T200938Z
LAST-MODIFIED:20251230T205921Z
UID:10000274-1823493600-1823533200@broadlandshoa.org
SUMMARY:Trash Services
DESCRIPTION:
URL:https://broadlandshoa.org/calendar/trash-services/2027-10-14/
END:VEVENT
END:VCALENDAR